BEGIN:VCALENDAR
VERSION:2.0
PRODID:-//ChamberMaster//Event Calendar 2.0//EN
METHOD:PUBLISH
X-PUBLISHED-TTL:P3D
REFRESH-INTERVAL:P3D
CALSCALE:GREGORIAN
BEGIN:VEVENT
DTSTART:20230915T020000Z
DTEND:20230915T033000Z
X-MICROSOFT-CDO-ALLDAYEVENT:FALSE
SUMMARY:West Keizer Neighborhood Association General Meeting
DESCRIPTION:General meeting of West Keizer Neighborhood Association\, open to all residents. Guest speakers will be Oregon Rep. Kevin Mannix and Keizer Police Chief John Teague.
X-ALT-DESC;FMTTYPE=text/html:<span style="font-size:16px\;">General meeting of West Keizer Neighborhood Association\, open to all residents. Guest speakers will be Oregon Rep. Kevin Mannix and Keizer Police Chief John Teague.</span>
LOCATION:Keizer Community Center/City Hall 930 Chemawa Road NE Keizer OR 97303
UID:e.63.28390
SEQUENCE:3
DTSTAMP:20260424T031226Z
URL:https://cm.keizerchamber.com/events/details/west-keizer-neighborhood-association-general-meeting-09-14-2023-28390
END:VEVENT

END:VCALENDAR
