BEGIN:VCALENDAR
VERSION:2.0
PRODID:-//ChamberMaster//Event Calendar 2.0//EN
METHOD:PUBLISH
X-PUBLISHED-TTL:P3D
REFRESH-INTERVAL:P3D
CALSCALE:GREGORIAN
BEGIN:VEVENT
DTSTART:20230923T200000Z
DTEND:20230923T230000Z
X-MICROSOFT-CDO-ALLDAYEVENT:FALSE
SUMMARY:Walk-n-Wag
DESCRIPTION:Step out for pets and people at the 11th annual Walk-n-Wag\, Saturday September 23rd 1-4 pm at Minto Brown Island Park. Stroll the beautiful woodland trail with dogs and other pet-lovers\, shop the vendor village and door prize raffle booth. Activities include a caricature artist and poster dog contest. Donations help Willamette Vital Health Hospice patients care for their pets through the Pet Peace of Mind  program\, and support children and adults through WVH Grief Care. Individuals\, groups and businesses can help by volunteering\, signing up to walk\, ordering a shirt\, creating a personal fundraiser\, sponsoring a memorial sign to their past pets\, or donating door prizes. Registration $10 until 9/22 at wvh.org/pets\, or $15 at the park. Children 12 and under are free.  Registered trademark\, Pet Peace of Mind\, Inc.
X-ALT-DESC;FMTTYPE=text/html:Step out for pets and people at the 11th annual Walk-n-Wag\, Saturday September 23rd 1-4 pm at Minto Brown Island Park. Stroll the beautiful woodland trail with dogs and other pet-lovers\, shop the vendor village and door prize raffle booth. Activities include a caricature artist and poster dog contest. Donations help Willamette Vital Health Hospice patients care for their pets through the Pet Peace of Mind&reg\; program\, and support children and adults through WVH Grief Care. Individuals\, groups and businesses can help by volunteering\, signing up to walk\, ordering a shirt\, creating a personal fundraiser\, sponsoring a memorial sign to their past pets\, or donating door prizes. Registration $10 until 9/22 at wvh.org/pets\, or $15 at the park. Children 12 and under are free. &reg\;Registered trademark\, Pet Peace of Mind\, Inc.
LOCATION:Minto Brown Island Park
UID:e.63.28354
SEQUENCE:3
DTSTAMP:20260424T014415Z
URL:https://cm.keizerchamber.com/events/details/walk-n-wag-09-23-2023-28354
END:VEVENT

END:VCALENDAR
