BEGIN:VCALENDAR
VERSION:2.0
PRODID:-//ChamberMaster//Event Calendar 2.0//EN
METHOD:PUBLISH
X-PUBLISHED-TTL:P3D
REFRESH-INTERVAL:P3D
CALSCALE:GREGORIAN
BEGIN:VEVENT
DTSTART:20231111T223000Z
DTEND:20231112T010000Z
X-MICROSOFT-CDO-ALLDAYEVENT:FALSE
SUMMARY:Veterans Day Celebration
DESCRIPTION:3rd Annual Veterans Day Celebration\n\n\n\nFundraiser for veteran suicide prevention\n\n\n\nJoin us for and Honor Guard Presentation\, Military Display vehicles\, information booths\, a silent and live auction and food catered by the Keizer Elks Club    \n\n\n\nFollow this link for more information: https://www.capacitysolutionsllc.com/honoring-the-courageous-veterans-day-celebration.html
X-ALT-DESC;FMTTYPE=text/html:<span style="font-size:26px\;"><strong>3rd Annual Veterans Day Celebration</strong></span><br />\n<br />\nFundraiser for veteran suicide prevention<br />\n<br />\nJoin us for and Honor Guard Presentation\, Military Display vehicles\, information booths\, a silent and live auction and food catered by the Keizer Elks Club&nbsp\;&nbsp\;&nbsp\;&nbsp\;<br />\n<br />\nFollow this link for more information:&nbsp\;<a href="https://www.capacitysolutionsllc.com/honoring-the-courageous-veterans-day-celebration.html">https://www.capacitysolutionsllc.com/honoring-the-courageous-veterans-day-celebration.html</a>
LOCATION:Keizer Elks Lodge 4250 Cherry Ave NE Keizer OR 97303
UID:e.63.28471
SEQUENCE:3
DTSTAMP:20260423T225059Z
URL:https://cm.keizerchamber.com/events/details/veterans-day-celebration-28471
END:VEVENT

END:VCALENDAR
