BEGIN:VCALENDAR
VERSION:2.0
PRODID:-//ChamberMaster//Event Calendar 2.0//EN
METHOD:PUBLISH
X-PUBLISHED-TTL:P3D
REFRESH-INTERVAL:P3D
CALSCALE:GREGORIAN
BEGIN:VEVENT
DTSTART:20080331T190000Z
DTEND:20080331T200000Z
X-MICROSOFT-CDO-ALLDAYEVENT:FALSE
SUMMARY:Verizon Wireless Ribbon Cutting
DESCRIPTION:Verizon Wireless\, a new Chamber Member is having a Ribbon Cutting Ceremony on March 31st at their brand new location in The City at the Keizer Station. \n\nThe festivities will begin at noon. Come by and see their wonderful facility\, meet the staff and enjoy some refreshments. Help show your support during the Ribbon Cutting Ceremony with the Chamber of Commerce staff and Chamber members.   We hope to see you there.
X-ALT-DESC;FMTTYPE=text/html:<div>Verizon Wireless\, a new Chamber Member is having a Ribbon&nbsp\;Cutting Ceremony&nbsp\;on March 31st at their brand new location in The City at the Keizer Station.&nbsp\;<br /><br />The festivities will begin at noon. Come by and see their wonderful facility\, meet the staff and enjoy some refreshments.&nbsp\;Help show your support during the Ribbon Cutting Ceremony&nbsp\;with the Chamber of&nbsp\;Commerce staff and Chamber members.&nbsp\;&nbsp\;</div><div>&nbsp\;</div><div>We hope to see you there.</div>
LOCATION:Verizon Wireless6035 Ulali Drive N (inside The City)Keizer\, Oregon
UID:e.63.1714
SEQUENCE:3
DTSTAMP:20260423T111821Z
URL:https://cm.keizerchamber.com/events/details/verizon-wireless-ribbon-cutting-03-31-2008-1714
END:VEVENT

END:VCALENDAR
