BEGIN:VCALENDAR
VERSION:2.0
PRODID:-//ChamberMaster//Event Calendar 2.0//EN
METHOD:PUBLISH
X-PUBLISHED-TTL:P3D
REFRESH-INTERVAL:P3D
CALSCALE:GREGORIAN
BEGIN:VEVENT
DTSTART:20100521T000000Z
DTEND:20100521T050000Z
X-MICROSOFT-CDO-ALLDAYEVENT:FALSE
SUMMARY:US Bank Iris Festival Kick-Off Party
DESCRIPTION:Iris Festival Kick-Off Party Sponsored by US Bank. Join us in the Big Tent on Thursday May 20th for a BBQ Chicken Dinner\, provided by Roth's Fresh Market from 5:00-8:00pm. Dancin with Doc Productions will provide entertainment for children of all ages. Kids are allowed in the big tent up till 9:00 pm\, after that 21 years and over only. Register and pay online from this invitation by Monday May 17th\, or pay at the door. $10 for adults and $5 for kids 12 and under. We'll see you there!
X-ALT-DESC;FMTTYPE=text/html:<div>Iris Festival Kick-Off Party Sponsored by US&nbsp\;Bank.</div><div>&nbsp\;</div><div>Join us in the Big Tent on Thursday May 20th for a BBQ Chicken Dinner\, provided by Roth&rsquo\;s Fresh Market from 5:00-8:00pm.&nbsp\;Dancin with Doc Productions will&nbsp\;provide entertainment&nbsp\;for&nbsp\;children of all ages.&nbsp\;Kids are allowed in the big tent up till 9:00 pm\, after that 21 years and over only.</div><div>&nbsp\;</div><div>Register and pay online from this invitation by Monday May 17th\, or pay at the door. $10 for adults and $5 for kids 12 and under. We&rsquo\;ll see you there!</div>
LOCATION:Big TentKeizer Station Blvd (next to Bed\, Bath & Beyond)Keizer\, Oregon
UID:e.63.2327
SEQUENCE:3
DTSTAMP:20260421T215604Z
URL:https://cm.keizerchamber.com/events/details/us-bank-iris-festival-kick-off-party-05-20-2010-2327
END:VEVENT

END:VCALENDAR
