BEGIN:VCALENDAR
VERSION:2.0
PRODID:-//ChamberMaster//Event Calendar 2.0//EN
METHOD:PUBLISH
X-PUBLISHED-TTL:P3D
REFRESH-INTERVAL:P3D
CALSCALE:GREGORIAN
BEGIN:VEVENT
DTSTART:20240504T160000Z
DTEND:20240504T190000Z
X-MICROSOFT-CDO-ALLDAYEVENT:FALSE
SUMMARY:Tree Inventory Volunteer Training
DESCRIPTION:The City is launching a local tree inventory with assistance from Oregon Department of Forestry. Volunteers will help collect data on the location\, species and number of trees throughout Keizer. Volunteers do not need any experience to participate.\n\n\n\nVolunteer training will be held on Saturday\, May 4\, 2024 at Keizer City Hall from 9am-12pm
X-ALT-DESC;FMTTYPE=text/html:The City is launching a local tree inventory with assistance from Oregon Department of Forestry. Volunteers will help collect data on the location\, species and number of trees throughout Keizer. Volunteers do not need any experience to participate.<br />\n<br />\nVolunteer training will be held on Saturday\, May 4\, 2024 at Keizer City Hall from 9am-12pm
LOCATION:Keizer City Hall 930 Chemawa Rd NE Keizer\, OR 97303
UID:e.63.28611
SEQUENCE:3
DTSTAMP:20260424T090153Z
URL:https://cm.keizerchamber.com/events/details/tree-inventory-volunteer-training-28611
END:VEVENT

END:VCALENDAR
