BEGIN:VCALENDAR
VERSION:2.0
PRODID:-//ChamberMaster//Event Calendar 2.0//EN
METHOD:PUBLISH
X-PUBLISHED-TTL:P3D
REFRESH-INTERVAL:P3D
CALSCALE:GREGORIAN
BEGIN:VEVENT
DTSTART:20240615T020000Z
DTEND:20240616T040000Z
X-MICROSOFT-CDO-ALLDAYEVENT:FALSE
SUMMARY:“The Lifespan of a Fact”
DESCRIPTION:LIVE PERFORMANCE of "The Lifespan of a Fact"\n\nWritten by Jeremy Kareken\, David Murrell\, Gordon Farrell Directed by Linda Baker (Produced in cooperation with Samuel French)\n\nJohn D'Agata is a talented writer with a transcendent essay about the suicide of a teenage boy an essay that could save the magazine from collapse. When Jim is assigned to fact check D'Agata's essay\, the two come head to head in a comedic and gripping battle over the ethics of journalism.\n\n\n\nTICKETS https://app.arts-people.com/index.php?ticketing=kht \n\n\n\n*Holders of Oregon Trail Card are eligible for FREE TICKETS
X-ALT-DESC;FMTTYPE=text/html:LIVE PERFORMANCE of &ldquo\;The Lifespan of a Fact&rdquo\;<br />\nWritten by Jeremy Kareken\, David Murrell\, Gordon Farrell Directed by Linda Baker (Produced in cooperation with Samuel French)<br />\nJohn D&#39\;Agata is a talented writer with a transcendent essay about the suicide of a teenage boy&mdash\;an essay that could save the magazine from collapse. When Jim is assigned to fact check D&#39\;Agata&#39\;s essay\, the two come head to head in a comedic and gripping battle over the ethics of journalism.<br />\n<br />\nTICKETS <a href="https://app.arts-people.com/index.php?ticketing=kht">https://app.arts-people.com/index.php?ticketing=kht</a>&nbsp\;<br />\n<br />\n*Holders of Oregon Trail Card are eligible for FREE TICKETS
LOCATION:Keizer Homegrown Theatre 980 Chemawa Rd NE Keizer\, OR 97303
UID:e.63.28450
SEQUENCE:3
DTSTAMP:20260424T102846Z
URL:https://cm.keizerchamber.com/events/details/the-lifespan-of-a-fact-28450
END:VEVENT

END:VCALENDAR
