BEGIN:VCALENDAR
VERSION:2.0
PRODID:-//ChamberMaster//Event Calendar 2.0//EN
METHOD:PUBLISH
X-PUBLISHED-TTL:P3D
REFRESH-INTERVAL:P3D
CALSCALE:GREGORIAN
BEGIN:VEVENT
DTSTART;VALUE=DATE:20070511
DTEND;VALUE=DATE:20070512
TRANSP:TRANSPARENT
X-MICROSOFT-CDO-ALLDAYEVENT:TRUE
SUMMARY:The Influence Index
DESCRIPTION:Coming Live Via Simulcast to Dayspring Fellowship\n\nThe 2007 Maximum Impact Simulcast will deliver a remarkable day of leadership training. Join over 80\,000 business leaders across North America for an unforgettable day of leadership development!\n\nRenowned athletes\, authors and leadership experts from virtually every circle of influence are converging for the most compelling leadership event of the year. \n\nJohn C Maxwell: Leadership Guru & Best -Selling author\nTerry Bradshaw: 4-Time Superbowl winning quarterback\nHerman Boone: Inspirational coach\nTim Sanders: Former Chief Solutions Officer at Yahoo\nMalcolm Gladwell: Best-Selling author Cultural Analyst\nJackie Freiberg: Best-Selling Author \nMark Sanborn: Best-Selling Author\, The Fred Factor\nBill Strickland: Social Innovator\nKen Blanchard: Management Guru & Best-Selling Author \n\nFor Ticket Orders call Dayspring Fellowship at 503-390-3900
X-ALT-DESC;FMTTYPE=text/html:Coming Live Via Simulcast to Dayspring Fellowship<br /><br />The 2007 Maximum Impact Simulcast will deliver a remarkable day of leadership training. Join over 80\,000 business leaders across North America for an unforgettable day of leadership development!<br /><br />Renowned athletes\, authors and leadership experts from virtually every circle of influence are converging for the most compelling leadership event of the year. <br /><br /><strong><em>John C Maxwell</em></strong>: Leadership Guru &amp\; Best -Selling author<br /><strong><em>Terry Bradshaw</em></strong>: 4-Time Superbowl winning quarterback<br /><strong><em>Herman Boone</em></strong>: Inspirational coach<br /><strong><em>Tim Sanders</em></strong>: Former Chief Solutions Officer at Yahoo<br /><strong><em>Malcolm Gladwell</em></strong>: Best-Selling author Cultural Analyst<br /><strong><em>Jackie Freiberg</em></strong>: Best-Selling Author <br /><strong><em>Mark Sanborn</em></strong>: Best-Selling Author\, The Fred Factor<br /><strong><em>Bill Strickland</em></strong>: Social Innovator<br /><strong><em>Ken Blanchard</em></strong>: Management Guru &amp\; Best-Selling Author&nbsp\;<br /><br /><strong>For Ticket Orders call Dayspring Fellowship at 503-390-3900</strong>
LOCATION:Dayspring Fellowship 1755 Lockhaven Dr NE Keizer\, OR. 97303
UID:e.63.1275
SEQUENCE:3
DTSTAMP:20260421T142227Z
URL:https://cm.keizerchamber.com/events/details/the-influence-index-05-11-2007-1275
END:VEVENT

END:VCALENDAR
