BEGIN:VCALENDAR
VERSION:2.0
PRODID:-//ChamberMaster//Event Calendar 2.0//EN
METHOD:PUBLISH
X-PUBLISHED-TTL:P3D
REFRESH-INTERVAL:P3D
CALSCALE:GREGORIAN
BEGIN:VEVENT
DTSTART:20240602T180000Z
DTEND:20240602T200000Z
X-MICROSOFT-CDO-ALLDAYEVENT:FALSE
SUMMARY:Superhero Run by CASA of Marion County
DESCRIPTION:Join CASA of Marion County for our annual Superhero Run! Kid-friendly and costumes strongly encouraged! 10K and 5K walk/run. FREE one-mile fun run for all ages! EARLY BIRD REGISTRATION APRIL 1 THROUGH MAY 1: $35 for 10k and 5k runners. Registration fee increases to $45 on May 2nd. Superhero and Super Villain Costume Contest for Youth and Adults: Best Superhero\; Best Super Villain\; Best Super Group.
X-ALT-DESC;FMTTYPE=text/html:Join CASA of Marion County for our annual Superhero Run! Kid-friendly and costumes strongly encouraged! 10K and 5K walk/run. FREE one-mile fun run for all ages! EARLY BIRD REGISTRATION APRIL 1 THROUGH MAY 1: $35 for 10k and 5k runners. Registration fee increases to $45 on May 2nd. Superhero and Super Villain Costume Contest for Youth and Adults: Best Superhero\; Best Super Villain\; Best Super Group.
LOCATION:Salem Riverfront Park
UID:e.63.28552
SEQUENCE:3
DTSTAMP:20260424T103806Z
URL:https://cm.keizerchamber.com/events/details/superhero-run-by-casa-of-marion-county-28552
END:VEVENT

END:VCALENDAR
