BEGIN:VCALENDAR
VERSION:2.0
PRODID:-//ChamberMaster//Event Calendar 2.0//EN
METHOD:PUBLISH
X-PUBLISHED-TTL:P3D
REFRESH-INTERVAL:P3D
CALSCALE:GREGORIAN
BEGIN:VEVENT
DTSTART:20231014T210000Z
DTEND:20231014T230000Z
X-MICROSOFT-CDO-ALLDAYEVENT:FALSE
SUMMARY:Sunmed Salem's 1st Anniversary Celebration
DESCRIPTION:Sunmed Salem's 1st Anniversary Celebration\n\n\n\nJoin us for refreshments and samples and 20% off all products from 2-4pm\n\n\n\nGracie's Sweets & Treats will be providing ice cream for all\n\nGet your caricature done\n\nWine tastings by Sierra Jones
X-ALT-DESC;FMTTYPE=text/html:Sunmed Salem&#39\;s 1st Anniversary Celebration<br />\n<br />\nJoin us for refreshments and samples and 20% off all products from 2-4pm<br />\n<br />\nGracie&#39\;s Sweets &amp\; Treats will be providing ice cream for all<br />\nGet your caricature done<br />\nWine tastings by Sierra Jones
LOCATION:134 Lancaster Dr SE Salem
UID:e.63.28427
SEQUENCE:3
DTSTAMP:20260424T001402Z
URL:https://cm.keizerchamber.com/events/details/sunmed-salem-s-1st-anniversary-celebration-28427
END:VEVENT

END:VCALENDAR
