BEGIN:VCALENDAR
VERSION:2.0
PRODID:-//ChamberMaster//Event Calendar 2.0//EN
METHOD:PUBLISH
X-PUBLISHED-TTL:P3D
REFRESH-INTERVAL:P3D
CALSCALE:GREGORIAN
BEGIN:VEVENT
DTSTART:20240623T000000Z
DTEND:20240623T040000Z
X-MICROSOFT-CDO-ALLDAYEVENT:FALSE
SUMMARY:Summer Solstice Benefit Auction
DESCRIPTION:Join us on Saturday June 22nd\, 2024 at 5:30 pm--doors open at 5:00--at Eola Hills Wine Cellars in Rickreall\, Oregon for a night of fun and excitement benefiting PCL's My Home\, My Life Fund. We are excited to share all of the wonderful things PCL is doing\, and how you can be a part of enhancing the lives of people living with intellectual and developmental disabilities. Your attendance and advocacy assists in providing real and vital support that encourages people supported by PCL to live great\, self-directed lives. Thank you!
X-ALT-DESC;FMTTYPE=text/html:Join us on Saturday June 22nd\, 2024 at 5:30 pm--doors open at 5:00--at Eola Hills Wine Cellars in Rickreall\, Oregon for a night of fun and excitement benefiting PCL&#39\;s My Home\, My Life Fund. We are excited to share all of the wonderful things PCL is doing\, and how you can be a part of enhancing the lives of people living with intellectual and developmental disabilities. Your attendance and advocacy assists in providing real and vital support that encourages people supported by PCL to live great\, self-directed lives. Thank you!
LOCATION:Eola Hills Wine Cellars
UID:e.63.28618
SEQUENCE:3
DTSTAMP:20260420T220953Z
URL:https://cm.keizerchamber.com/events/details/summer-solstice-benefit-auction-28618
END:VEVENT

END:VCALENDAR
