BEGIN:VCALENDAR
VERSION:2.0
PRODID:-//ChamberMaster//Event Calendar 2.0//EN
METHOD:PUBLISH
X-PUBLISHED-TTL:P3D
REFRESH-INTERVAL:P3D
CALSCALE:GREGORIAN
BEGIN:VEVENT
DTSTART:20080313T230000Z
DTEND:20080314T010000Z
X-MICROSOFT-CDO-ALLDAYEVENT:FALSE
SUMMARY:Starbucks Friends & Family
DESCRIPTION:Join us to celebrate the opening of our new location from 4-6PM on Thursday March 13th.  Complimentary Food & Beverage.
X-ALT-DESC;FMTTYPE=text/html:Join us to celebrate the opening of our new location from 4-6PM on Thursday March 13th.  Complimentary Food & Beverage.
LOCATION:Keizer Station Starbucks2555 Jorie Lane NE Suite 101Keizer\, Oregon
UID:e.63.1705
SEQUENCE:3
DTSTAMP:20260423T082230Z
URL:https://cm.keizerchamber.com/events/details/starbucks-friends-family-03-13-2008-1705
END:VEVENT

END:VCALENDAR
