BEGIN:VCALENDAR
VERSION:2.0
PRODID:-//ChamberMaster//Event Calendar 2.0//EN
METHOD:PUBLISH
X-PUBLISHED-TTL:P3D
REFRESH-INTERVAL:P3D
CALSCALE:GREGORIAN
BEGIN:VEVENT
DTSTART:20240522T020000Z
DTEND:20240522T031500Z
X-MICROSOFT-CDO-ALLDAYEVENT:FALSE
SUMMARY:Spring Concert
DESCRIPTION:The public is invited to a free concert by the Keizer Community Band on Tuesday\, May 21\, at 7:00 pm at Keizer City Hall. The band will play music from West Side Story\, marches and concert band literature. Tyler Maudlin\, trumpet\, will perform "A Trumpeter's Lullaby" for trumpet and band. Josh Torassa will be featured on Alto Saxophone on "Homeward Bound" and "What A Wonderful World". Tom Muller will perform the clarinet standard "Stranger on the Shore". The band includes members of the Salem-Keizer community as well as musicians from surrounding areas. It was founded in 1998 and is currently directed by Michael Koenig. Please see the bands web site kcband.org or call Michael Koenig (503-930-0707) if you have questions.
X-ALT-DESC;FMTTYPE=text/html:The public is invited to a free concert by the Keizer Community Band on Tuesday\, May 21\, at 7:00 pm at Keizer City Hall. The band will play music from West Side Story\, marches and concert band literature. Tyler Maudlin\, trumpet\, will perform &ldquo\;A Trumpeter&rsquo\;s Lullaby&rdquo\; for trumpet and band. Josh Torassa will be featured on Alto Saxophone on &ldquo\;Homeward Bound&rdquo\; and &ldquo\;What A Wonderful World&rdquo\;. Tom Muller will perform the clarinet standard &ldquo\;Stranger on the Shore&rdquo\;. The band includes members of the Salem-Keizer community as well as musicians from surrounding areas. It was founded in 1998 and is currently directed by Michael Koenig. Please see the bands web site kcband.org or call Michael Koenig (503-930-0707) if you have questions.
LOCATION:Keizer Civic Center
UID:e.63.28608
SEQUENCE:3
DTSTAMP:20260421T074548Z
URL:https://cm.keizerchamber.com/events/details/spring-concert-28608
END:VEVENT

END:VCALENDAR
