BEGIN:VCALENDAR
VERSION:2.0
PRODID:-//ChamberMaster//Event Calendar 2.0//EN
METHOD:PUBLISH
X-PUBLISHED-TTL:P3D
REFRESH-INTERVAL:P3D
CALSCALE:GREGORIAN
BEGIN:VEVENT
DTSTART:20231021T200000Z
DTEND:20231021T230000Z
X-MICROSOFT-CDO-ALLDAYEVENT:FALSE
SUMMARY:Spaghetti Feed/Cake Judge
DESCRIPTION:Fund Raiser Spaghetti feed and Cake Judging. Tickets and signup at front desk.
X-ALT-DESC;FMTTYPE=text/html:Fund Raiser Spaghetti feed and Cake Judging. Tickets and signup at front desk.
LOCATION:Keizer Salem Senior Center 930 Plymouth DR NE Keizer\, OR 97303
UID:e.63.28411
SEQUENCE:3
DTSTAMP:20260424T001212Z
URL:https://cm.keizerchamber.com/events/details/spaghetti-feed-cake-judge-28411
END:VEVENT

END:VCALENDAR
