BEGIN:VCALENDAR
VERSION:2.0
PRODID:-//ChamberMaster//Event Calendar 2.0//EN
METHOD:PUBLISH
X-PUBLISHED-TTL:P3D
REFRESH-INTERVAL:P3D
CALSCALE:GREGORIAN
BEGIN:VEVENT
DTSTART:20231118T200000Z
DTEND:20231120T030000Z
X-MICROSOFT-CDO-ALLDAYEVENT:FALSE
SUMMARY:SHOWBIZ SALEM HOLIDAY EXPO
DESCRIPTION:EVERYONE IS INVITED TO THIS GATHERING OF OLD AND NEW FRIENDS!\n\nAre you looking for gifts for family and friends?\n\nWould you like to find specialty foods and/or spirits to serve with holiday meals?\n\nDo you have an interest in learning about local businesses and non-profits?\n\nThen the SHOWBIZ SALEM HOLIDAY EXPO is the place to be!\n\nThe ShowBiz Salem Holiday Expo is where business meets community.\n\nMeet over 100 exhibitors displaying their products and/or services. \n\nWith live entertainment\, gift ware\, crafts\, and a variety of samples from \n\nspecialty food exhibitors\, local restaurants\, wineries\, breweries\, and distilleries:\n\nThe SHOWBIZ SALEM HOLIDAY EXPO \n\nis your one stop holiday shopping extravaganza!
X-ALT-DESC;FMTTYPE=text/html:EVERYONE IS INVITED TO THIS GATHERING OF OLD AND NEW FRIENDS!<br />\nAre you looking for gifts for family and friends?<br />\nWould you like to find specialty foods and/or spirits to serve with holiday meals?<br />\nDo you have an interest in learning about local businesses and non-profits?<br />\nThen the SHOWBIZ SALEM HOLIDAY EXPO is the place to be!<br />\nThe ShowBiz Salem Holiday Expo is where business meets community.<br />\nMeet over 100 exhibitors displaying their products and/or services.&nbsp\;<br />\nWith live entertainment\, gift ware\, crafts\, and a variety of samples from&nbsp\;<br />\nspecialty food exhibitors\, local restaurants\, wineries\, breweries\, and distilleries:<br />\nThe SHOWBIZ SALEM HOLIDAY EXPO&nbsp\;<br />\nis your one stop holiday shopping extravaganza!
LOCATION:Oregon State Fairgrounds Jackman Long Building 2330 17th Street NE Salem\, Oregon 97301-0601
UID:e.63.28419
SEQUENCE:3
DTSTAMP:20260423T225952Z
URL:https://cm.keizerchamber.com/events/details/showbiz-salem-holiday-expo-11-18-2023-28419
END:VEVENT

END:VCALENDAR
