BEGIN:VCALENDAR
VERSION:2.0
PRODID:-//ChamberMaster//Event Calendar 2.0//EN
METHOD:PUBLISH
X-PUBLISHED-TTL:P3D
REFRESH-INTERVAL:P3D
CALSCALE:GREGORIAN
BEGIN:VEVENT
DTSTART:20070506T230000Z
DTEND:20070507T020000Z
X-MICROSOFT-CDO-ALLDAYEVENT:FALSE
SUMMARY:Salem Youth Symphony Spring Concert
DESCRIPTION:Featuring:\nThe Sorcerer's Apprentice by Paul Dukas\nLa Forza del Destino by Giuseppe Verdi\nIntro. and Rondo Capriccioso\, Op. 28 by Camille Saint-Saens featuring SYSA Concerto Competition Winner\, Sean O'Neal\, Violin
X-ALT-DESC;FMTTYPE=text/html:Featuring:\nThe Sorcerer's Apprentice by Paul Dukas\nLa Forza del Destino by Giuseppe Verdi\nIntro. and Rondo Capriccioso\, Op. 28 by Camille Saint-Saens featuring SYSA Concerto Competition Winner\, Sean O'Neal\, Violin
LOCATION:McNary High School
UID:e.63.1272
SEQUENCE:3
DTSTAMP:20260423T211431Z
URL:https://cm.keizerchamber.com/events/details/salem-youth-symphony-spring-concert-05-06-2007-1272
END:VEVENT

END:VCALENDAR
