BEGIN:VCALENDAR
VERSION:2.0
PRODID:-//ChamberMaster//Event Calendar 2.0//EN
METHOD:PUBLISH
X-PUBLISHED-TTL:P3D
REFRESH-INTERVAL:P3D
CALSCALE:GREGORIAN
BEGIN:VEVENT
DTSTART:20100718T003000Z
DTEND:20100718T033000Z
X-MICROSOFT-CDO-ALLDAYEVENT:FALSE
SUMMARY:Rock in the Amp - A Good Vibrations Welcome Event
DESCRIPTION:Let it loose with KRT's rock music at the Keizer Rotary Amphitheater. Laugh and share some good times with friends over a few brews.
X-ALT-DESC;FMTTYPE=text/html:<div>Let it loose with KRT's rock music at the Keizer Rotary Amphitheater. Laugh and share some good times with friends over a few brews.</div>
LOCATION:Turn west towards the Willamette River on Chemawa Road in Keizer for about a mile. The Amphitheater is located at Keizer Rapids Park on the left near the road's end. Parking is past the fenced dog parks.
UID:e.63.2357
SEQUENCE:3
DTSTAMP:20260421T190619Z
URL:https://cm.keizerchamber.com/events/details/rock-in-the-amp-a-good-vibrations-welcome-event-07-17-2010-2357
END:VEVENT

END:VCALENDAR
