BEGIN:VCALENDAR
VERSION:2.0
PRODID:-//ChamberMaster//Event Calendar 2.0//EN
METHOD:PUBLISH
X-PUBLISHED-TTL:P3D
REFRESH-INTERVAL:P3D
CALSCALE:GREGORIAN
BEGIN:VEVENT
DTSTART:20070508T233000Z
DTEND:20070509T000000Z
X-MICROSOFT-CDO-ALLDAYEVENT:FALSE
SUMMARY:Ribbon Cutting-Vintage Fifth Avenue
DESCRIPTION:Vintage Fifth Avenue\, a New Chamber Member in Salem is having a Ribbon Cutting Ceremony on May 8th at 4:30. \n\nCome by and check out their unique shop full of womens clothing\, shoes and accessories not to mention their collection of Vintage Clothing!  They are located on the corner of Center & 12th Street in Salem Oregon. \n\nWe hope to see you there!
X-ALT-DESC;FMTTYPE=text/html:Vintage Fifth Avenue\, a New Chamber Member in Salem is having a Ribbon Cutting Ceremony on May 8th at 4:30.&nbsp\;<br /><br />Come by and check out their unique shop full of womens clothing\, shoes and accessories not to mention their collection of&nbsp\;Vintage Clothing!&nbsp\; They are located on the corner of Center &amp\; 12th Street in Salem Oregon. <br /><br />We hope to see you there!
LOCATION:1194 Center Street NE Salem\, Oregon
UID:e.63.1276
SEQUENCE:3
DTSTAMP:20260421T142351Z
URL:https://cm.keizerchamber.com/events/details/ribbon-cutting-vintage-fifth-avenue-05-08-2007-1276
END:VEVENT

END:VCALENDAR
