BEGIN:VCALENDAR
VERSION:2.0
PRODID:-//ChamberMaster//Event Calendar 2.0//EN
METHOD:PUBLISH
X-PUBLISHED-TTL:P3D
REFRESH-INTERVAL:P3D
CALSCALE:GREGORIAN
BEGIN:VEVENT
DTSTART:20070404T233000Z
DTEND:20070405T000000Z
X-MICROSOFT-CDO-ALLDAYEVENT:FALSE
SUMMARY:Ribbon Cutting-Champion Life Center
DESCRIPTION:Come help celebrate with new Chamber Member Champion Life Center at their Ribbon Cutting Ceremony in their newly remodeled location on 2105 Keizer Rd N. \n\nThis is a wonderful opportunity to come and check out their business and find out what they're all about. We hope to see you there helping to support your local Chamber member!
X-ALT-DESC;FMTTYPE=text/html:<p>Come help celebrate with new Chamber Member Champion Life Center at their Ribbon Cutting Ceremony&nbsp\;in their newly remodeled location on 2105 Keizer Rd N.&nbsp\;<br /><br />This is a wonderful opportunity to come and check out their business and find out what they're all about. We hope to see you there helping to support your local Chamber member!&nbsp\;<br /></p>
LOCATION:Champion Life Center 2105 Keizer Rd N Keizer\, OR. 97303
UID:e.63.1268
SEQUENCE:3
DTSTAMP:20260421T155557Z
URL:https://cm.keizerchamber.com/events/details/ribbon-cutting-champion-life-center-04-04-2007-1268
END:VEVENT

END:VCALENDAR
