BEGIN:VCALENDAR
VERSION:2.0
PRODID:-//ChamberMaster//Event Calendar 2.0//EN
METHOD:PUBLISH
X-PUBLISHED-TTL:P3D
REFRESH-INTERVAL:P3D
CALSCALE:GREGORIAN
BEGIN:VEVENT
DTSTART:20100622T233000Z
DTEND:20100623T000000Z
X-MICROSOFT-CDO-ALLDAYEVENT:FALSE
SUMMARY:Ribbon Cutting Ceremony & Open House at Scent Celebration
DESCRIPTION:Join the Keizer Chamber of Commerce in welcoming Scent Celebration as a new member this Tuesday\, June 22nd for a Ribbon Cutting Ceremony and Open House. Open House is from 4:00 pm to 7:00 pm with the Ribbon Cutting at 4:30 pm. The event will feature a display of Scentsy products\, door prizes\, food\, wine from local wineries\, and an art display by local award winning artist Lorraine Dye. We hope to see you there\, helping to support your local Chamber member! Don't forget to bring plenty of business cards.
X-ALT-DESC;FMTTYPE=text/html:<div>Join the Keizer Chamber of Commerce in welcoming Scent Celebration as a new member this Tuesday\, June 22nd for a Ribbon Cutting Ceremony and Open House.</div><div>&nbsp\;</div><div>Open House is from 4:00 pm to 7:00 pm with the Ribbon Cutting at 4:30 pm. The event will feature a display of Scentsy products\, door prizes\, food\, wine from local wineries\, and an art display by local award winning artist Lorraine Dye.</div><div>&nbsp\;</div><div>We hope to see you there\, helping to support your local Chamber member!</div><div>&nbsp\;</div><div>Don&rsquo\;t forget to bring plenty of business cards.</div><div>&nbsp\;</div><div>&nbsp\;</div>
LOCATION:Scent Celebration home of Kristi & Patrick Sieng346 Evans Ave NKeizer\, Oregon
UID:e.63.2347
SEQUENCE:3
DTSTAMP:20260421T202124Z
URL:https://cm.keizerchamber.com/events/details/ribbon-cutting-ceremony-open-house-at-scent-celebration-06-22-2010-2347
END:VEVENT

END:VCALENDAR
