BEGIN:VCALENDAR
VERSION:2.0
PRODID:-//ChamberMaster//Event Calendar 2.0//EN
METHOD:PUBLISH
X-PUBLISHED-TTL:P3D
REFRESH-INTERVAL:P3D
CALSCALE:GREGORIAN
BEGIN:VEVENT
DTSTART:20081113T233000Z
DTEND:20081114T003000Z
X-MICROSOFT-CDO-ALLDAYEVENT:FALSE
SUMMARY:Ribbon Cutting Ceremony at Willamette Valley Christian School
DESCRIPTION:Willamette Valley Christian School is having a Ribbon Cutting Ceremony to celebrate their new Pre School & Remodel. Show your support by joining the crew at Willamette Valley Christine School and help them celebrate. Tour their new pre school and enjoy some great networking. We hope to see you there!
X-ALT-DESC;FMTTYPE=text/html:<div>Willamette Valley Christian School is having a Ribbon Cutting Ceremony to celebrate their new Pre School &amp\; Remodel.</div><div>&nbsp\;</div><div>Show your support by joining the crew at Willamette Valley Christine School and help them celebrate. Tour their new pre school and enjoy some great networking.</div><div>&nbsp\;</div><div>We hope to see you there!</div>
LOCATION:Willamette Valley Christian School9075 Pueblo Ave NEBrooks\, Oregon
UID:e.63.1756
SEQUENCE:3
DTSTAMP:20260423T000219Z
URL:https://cm.keizerchamber.com/events/details/ribbon-cutting-ceremony-at-willamette-valley-christian-school-11-13-2008-1756
END:VEVENT

END:VCALENDAR
