BEGIN:VCALENDAR
VERSION:2.0
PRODID:-//ChamberMaster//Event Calendar 2.0//EN
METHOD:PUBLISH
X-PUBLISHED-TTL:P3D
REFRESH-INTERVAL:P3D
CALSCALE:GREGORIAN
BEGIN:VEVENT
DTSTART:20081115T003000Z
DTEND:20081115T013000Z
X-MICROSOFT-CDO-ALLDAYEVENT:FALSE
SUMMARY:Ribbon Cutting Ceremony at Red Ginger Restaurant
DESCRIPTION:Red Ginger Restaurant is having a Ribbon Cutting Ceremony (joint with Salem Chamber) Come on by and help Boo Chanthavong celebrate her new restaurant\, sample some fine Asian cuisine and do some networking. We hope to see you there\, showing your support!
X-ALT-DESC;FMTTYPE=text/html:<div>Red Ginger Restaurant is having a Ribbon Cutting Ceremony&nbsp\;(joint with Salem Chamber)</div><div>&nbsp\;</div><div>Come on by and help Boo Chanthavong celebrate her new restaurant\, sample some fine Asian cuisine and do some networking.</div><div>&nbsp\;</div><div>We hope to see you there\, showing your support!</div>
LOCATION:Red Ginger Restaurant4907 River Rd NKeizer\, Oregon
UID:e.63.1757
SEQUENCE:3
DTSTAMP:20260423T000208Z
URL:https://cm.keizerchamber.com/events/details/ribbon-cutting-ceremony-at-red-ginger-restaurant-11-14-2008-1757
END:VEVENT

END:VCALENDAR
