BEGIN:VCALENDAR
VERSION:2.0
PRODID:-//ChamberMaster//Event Calendar 2.0//EN
METHOD:PUBLISH
X-PUBLISHED-TTL:P3D
REFRESH-INTERVAL:P3D
CALSCALE:GREGORIAN
BEGIN:VEVENT
DTSTART:20100611T190000Z
DTEND:20100611T193000Z
X-MICROSOFT-CDO-ALLDAYEVENT:FALSE
SUMMARY:Ribbon Cutting Ceremony at Pinnacle Physical Therapy
DESCRIPTION:Pinnacle Physical Therapy has moved! Come by and help them celebrate at their Ribbon Cutting Ceremony and Open House! This is a wonderful opportunity to meet the staff at Pinnacle Physical Therapy\, check out their business\, take a tour and see hands-on demonstrations. Lunch will also be provided and great door prizes will be given away. The open house begins at 11:30 am with the Ribbon Cutting Ceremony at noon. We hope to see you there\, helping to support your local Chamber member!
X-ALT-DESC;FMTTYPE=text/html:<div>Pinnacle Physical Therapy has moved!&nbsp\;Come by and help them celebrate at their Ribbon Cutting Ceremony and Open House!</div><div>&nbsp\;</div><div>This is a wonderful opportunity to&nbsp\;meet the staff at Pinnacle Physical Therapy\, check out their business\, take a tour and see hands-on demonstrations.&nbsp\;Lunch will also be provided and great door prizes will be given away.</div><div>&nbsp\;</div><div>The open house begins at 11:30 am with the Ribbon Cutting Ceremony at noon. We hope to see you there\, helping to support your local Chamber member! &nbsp\;</div>
LOCATION:Pinnacle Physical Therapy4025 Cherry Ave NEKeizer\, Oregon
UID:e.63.2342
SEQUENCE:3
DTSTAMP:20260421T202125Z
URL:https://cm.keizerchamber.com/events/details/ribbon-cutting-ceremony-at-pinnacle-physical-therapy-06-11-2010-2342
END:VEVENT

END:VCALENDAR
