BEGIN:VCALENDAR
VERSION:2.0
PRODID:-//ChamberMaster//Event Calendar 2.0//EN
METHOD:PUBLISH
X-PUBLISHED-TTL:P3D
REFRESH-INTERVAL:P3D
CALSCALE:GREGORIAN
BEGIN:VEVENT
DTSTART:20081118T210000Z
DTEND:20081118T220000Z
X-MICROSOFT-CDO-ALLDAYEVENT:FALSE
SUMMARY:Ribbon Cutting Ceremony at Pack & Mail Plus
DESCRIPTION:Pack & Mail Plus\, a brand new business in Keizer & Chamber member is having a Ribbon Cutting Ceremony & Grand Opening! Come by and help Tom celebrate the opening of his new business at the Keizer Plaza. Tour his great new facility and do some networking. We hope to see you there showing your support!
X-ALT-DESC;FMTTYPE=text/html:<div>Pack &amp\; Mail Plus\, a brand new business in Keizer &amp\; Chamber member is having a Ribbon Cutting Ceremony &amp\; Grand Opening!</div><div>&nbsp\;</div><div>Come by and help Tom celebrate the opening of his new business at the Keizer Plaza. Tour his great new facility and do some networking.</div><div>&nbsp\;</div><div>We hope to see you there showing your support!</div>
LOCATION:Pack & Mail Plus4930 River Rd NKeizer\, Oregon
UID:e.63.1758
SEQUENCE:3
DTSTAMP:20260423T000048Z
URL:https://cm.keizerchamber.com/events/details/ribbon-cutting-ceremony-at-pack-mail-plus-11-18-2008-1758
END:VEVENT

END:VCALENDAR
