BEGIN:VCALENDAR
VERSION:2.0
PRODID:-//ChamberMaster//Event Calendar 2.0//EN
METHOD:PUBLISH
X-PUBLISHED-TTL:P3D
REFRESH-INTERVAL:P3D
CALSCALE:GREGORIAN
BEGIN:VEVENT
DTSTART:20090813T233000Z
DTEND:20090814T000000Z
X-MICROSOFT-CDO-ALLDAYEVENT:FALSE
SUMMARY:Ribbon Cutting Ceremony at On The Rocs
DESCRIPTION:On The Rocs\, a newer Chamber member is having a Ribbon Cutting Ceremony to celebrate their business! Show your support by joining the staff of On The Rocs in celebration. Enjoy some wine and appetizers\, tour their facility and get a chance to do some great networking. We hope to see you there!
X-ALT-DESC;FMTTYPE=text/html:<div>On The&nbsp\;Rocs\,&nbsp\;a newer Chamber member&nbsp\;is having a Ribbon Cutting Ceremony to celebrate their business!</div><div>&nbsp\;</div><div>Show your support by joining the staff&nbsp\;of On&nbsp\;The&nbsp\;Rocs in celebration.&nbsp\;Enjoy some wine and appetizers\, tour their facility and get a chance&nbsp\;to do&nbsp\;some great networking.</div><div>&nbsp\;</div><div>We hope to see you there!</div>
LOCATION:On The Rocs3838 N River RdKeizer\, Oregon
UID:e.63.2247
SEQUENCE:3
DTSTAMP:20260422T104029Z
URL:https://cm.keizerchamber.com/events/details/ribbon-cutting-ceremony-at-on-the-rocs-08-13-2009-2247
END:VEVENT

END:VCALENDAR
