BEGIN:VCALENDAR
VERSION:2.0
PRODID:-//ChamberMaster//Event Calendar 2.0//EN
METHOD:PUBLISH
X-PUBLISHED-TTL:P3D
REFRESH-INTERVAL:P3D
CALSCALE:GREGORIAN
BEGIN:VEVENT
DTSTART:20100409T223000Z
DTEND:20100409T230000Z
X-MICROSOFT-CDO-ALLDAYEVENT:FALSE
SUMMARY:Ribbon Cutting Ceremony at Moles Appliance
DESCRIPTION:Come help celebrate with new Chamber Member Moles Appliance at their Ribbon Cutting Ceremony\, located at 3800 River Rd N Ste 160 in Keizer. This is a wonderful opportunity to come meet Amir and his staff\, check out the business and find out what they're all about. We hope to see you there\, helping to support your local Chamber member!
X-ALT-DESC;FMTTYPE=text/html:<div>Come help celebrate with new Chamber Member&nbsp\;Moles Appliance&nbsp\;at their Ribbon Cutting Ceremony\, located at&nbsp\;3800 River Rd N Ste 160 in&nbsp\;Keizer.</div><div>&nbsp\;</div><div>This is a wonderful opportunity to come&nbsp\;meet Amir and his staff\,&nbsp\;check out&nbsp\;the business and find out what they&rsquo\;re all about. We hope to see you there\, helping to support your local Chamber member!</div><div>&nbsp\;</div><div>&nbsp\;</div>
LOCATION:Moles Appliance3800 River Rd N Ste 160Keizer\, Oregon
UID:e.63.2317
SEQUENCE:3
DTSTAMP:20260422T004812Z
URL:https://cm.keizerchamber.com/events/details/ribbon-cutting-ceremony-at-moles-appliance-04-09-2010-2317
END:VEVENT

END:VCALENDAR
