BEGIN:VCALENDAR
VERSION:2.0
PRODID:-//ChamberMaster//Event Calendar 2.0//EN
METHOD:PUBLISH
X-PUBLISHED-TTL:P3D
REFRESH-INTERVAL:P3D
CALSCALE:GREGORIAN
BEGIN:VEVENT
DTSTART:20080819T190000Z
DTEND:20080819T193000Z
X-MICROSOFT-CDO-ALLDAYEVENT:FALSE
SUMMARY:Ribbon Cutting Ceremony at John L Scott
DESCRIPTION:John L Scott is celebrating their new development with a Ribbon Cutting Ceremony.Come on over and help this new Chamber member celebrate. Tour their wonderful new facility and enjoy a wonderful BBQ lunch!
X-ALT-DESC;FMTTYPE=text/html:<p>John L Scott is celebrating their new development with a Ribbon Cutting Ceremony.</p><p>Come on over and help this new Chamber member celebrate. Tour their wonderful new facility and enjoy a wonderful BBQ lunch!</p>
LOCATION:John L Scott
UID:e.63.1740
SEQUENCE:3
DTSTAMP:20260423T042759Z
URL:https://cm.keizerchamber.com/events/details/ribbon-cutting-ceremony-at-john-l-scott-08-19-2008-1740
END:VEVENT

END:VCALENDAR
