BEGIN:VCALENDAR
VERSION:2.0
PRODID:-//ChamberMaster//Event Calendar 2.0//EN
METHOD:PUBLISH
X-PUBLISHED-TTL:P3D
REFRESH-INTERVAL:P3D
CALSCALE:GREGORIAN
BEGIN:VEVENT
DTSTART:20080606T173000Z
DTEND:20080606T180000Z
X-MICROSOFT-CDO-ALLDAYEVENT:FALSE
SUMMARY:Ribbon Cutting Ceremony at Jamba Juice
DESCRIPTION:A Ribbon Cutting Ceremony will be held at Jamba Juice.Come on over and help this new Chamber member celebrate the opening of their new location at the Keizer Station. Tour their facility and enjoy fresh smoothies.
X-ALT-DESC;FMTTYPE=text/html:<p>A Ribbon Cutting Ceremony will be held at Jamba Juice.</p><p>Come on over and help this new Chamber member celebrate the opening of their new location at the Keizer Station. Tour their facility and enjoy fresh smoothies.</p>
LOCATION:Jamba Juice\, 2555 Jorie Lane NE Suite 104 (Keizer Station)
UID:e.63.1727
SEQUENCE:3
DTSTAMP:20260423T072510Z
URL:https://cm.keizerchamber.com/events/details/ribbon-cutting-ceremony-at-jamba-juice-06-06-2008-1727
END:VEVENT

END:VCALENDAR
