BEGIN:VCALENDAR
VERSION:2.0
PRODID:-//ChamberMaster//Event Calendar 2.0//EN
METHOD:PUBLISH
X-PUBLISHED-TTL:P3D
REFRESH-INTERVAL:P3D
CALSCALE:GREGORIAN
BEGIN:VEVENT
DTSTART:20100624T233000Z
DTEND:20100625T000000Z
X-MICROSOFT-CDO-ALLDAYEVENT:FALSE
SUMMARY:Ribbon Cutting Ceremony at Images Hair Salon
DESCRIPTION:Join the Keizer Chamber in welcoming Images Hair Salon as a new member Thursday\, June 24th for a Ribbon Cutting Ceremony. Images Hair Salon is located at 5171 River Rd NE in Keizer. This is a wonderful opportunity to come meet Marjorie and check out her salon! There will be cake\, coffee\, refreshments and lemonade to enjoy. You also have the opportunity to win some great door prizes. We hope to see you there\, helping to support your local Chamber member! Don't forget to bring plenty of business cards.
X-ALT-DESC;FMTTYPE=text/html:<div>Join the Keizer Chamber in welcoming Images Hair Salon as a new member Thursday\, June 24th for a Ribbon Cutting Ceremony.</div><div>&nbsp\;</div><div>Images Hair&nbsp\;Salon is&nbsp\;located at 5171 River Rd NE in Keizer. This is a wonderful opportunity to come&nbsp\;meet&nbsp\;Marjorie and check out&nbsp\;her salon!&nbsp\;There will be cake\, coffee\, refreshments and lemonade to enjoy. You also have the opportunity to win some great door prizes.</div><div>&nbsp\;</div><div>We hope to see you there\, helping to support your local Chamber member!</div><div>&nbsp\;</div><div>Don&rsquo\;t forget to bring plenty of business cards.</div><div>&nbsp\;</div><div>&nbsp\;</div>
LOCATION:Images Hair Salon5171 River RdKeizer\, Oregon
UID:e.63.2348
SEQUENCE:3
DTSTAMP:20260421T202207Z
URL:https://cm.keizerchamber.com/events/details/ribbon-cutting-ceremony-at-images-hair-salon-06-24-2010-2348
END:VEVENT

END:VCALENDAR
