BEGIN:VCALENDAR
VERSION:2.0
PRODID:-//ChamberMaster//Event Calendar 2.0//EN
METHOD:PUBLISH
X-PUBLISHED-TTL:P3D
REFRESH-INTERVAL:P3D
CALSCALE:GREGORIAN
BEGIN:VEVENT
DTSTART:20081203T000000Z
DTEND:20081203T003000Z
X-MICROSOFT-CDO-ALLDAYEVENT:FALSE
SUMMARY:Ribbon Cutting Ceremony
DESCRIPTION:Renew Consignment Furninshings will be celebrating the opening of their new business with a Ribbon Cutting Ceremony at 4:00pm Come by and help the staff at Renew Consignment Furninshings celebrate\, tour their new facility and do some networking.\nWe hope to see you there!
X-ALT-DESC;FMTTYPE=text/html:<div>Renew Consignment Furninshings will be celebrating the opening of their new business with a Ribbon Cutting Ceremony at 4:00pm</div><div>&nbsp\;</div><div>Come by and help the staff at Renew Consignment Furninshings celebrate\, tour their new facility and do some networking.</div><div><br />We hope to see you there!</div>
LOCATION:Renew Consignment Furnishings122 Chemawa Rd N Ste 126Keizer\, Oregon
UID:e.63.1768
SEQUENCE:3
DTSTAMP:20260422T221627Z
URL:https://cm.keizerchamber.com/events/details/ribbon-cutting-ceremony-12-02-2008-1768
END:VEVENT

END:VCALENDAR
