BEGIN:VCALENDAR
VERSION:2.0
PRODID:-//ChamberMaster//Event Calendar 2.0//EN
METHOD:PUBLISH
X-PUBLISHED-TTL:P3D
REFRESH-INTERVAL:P3D
CALSCALE:GREGORIAN
BEGIN:VEVENT
DTSTART:20081121T000000Z
DTEND:20081121T020000Z
X-MICROSOFT-CDO-ALLDAYEVENT:FALSE
SUMMARY:Ribbon Cutting at Key Bank
DESCRIPTION:Key Bank has opened a new location at the Keizer Station. Come by and help the staff at Key Bank celebrate at their Ribbon Cutting Ceremony and Grand Opening. Carusos will be catering as well as beer and wine will be provided. Tour their new facility\, meet the staff\, and join other business and city VIP's in welcoming Key Bank to Keizer. We hope to see you there\, showing your support!
X-ALT-DESC;FMTTYPE=text/html:<div>Key Bank has opened a new location at the Keizer Station.</div><div>&nbsp\;</div><div>Come by and help the staff at Key Bank celebrate at their Ribbon Cutting Ceremony and Grand Opening.&nbsp\;Carusos will&nbsp\;be catering&nbsp\;as well as beer and wine&nbsp\;will be provided. Tour their new facility\, meet the staff\, and join other business and city VIP&rsquo\;s in welcoming Key Bank to Keizer.</div><div>&nbsp\;</div><div>We hope to see you there\, showing your support!</div><div>&nbsp\;</div><div>&nbsp\;</div>
LOCATION:Key BankKeizer Station
UID:e.63.1744
SEQUENCE:3
DTSTAMP:20260423T000111Z
URL:https://cm.keizerchamber.com/events/details/ribbon-cutting-at-key-bank-11-20-2008-1744
END:VEVENT

END:VCALENDAR
