BEGIN:VCALENDAR
VERSION:2.0
PRODID:-//ChamberMaster//Event Calendar 2.0//EN
METHOD:PUBLISH
X-PUBLISHED-TTL:P3D
REFRESH-INTERVAL:P3D
CALSCALE:GREGORIAN
BEGIN:VEVENT
DTSTART:20230907T190000Z
DTEND:20230907T190000Z
X-MICROSOFT-CDO-ALLDAYEVENT:FALSE
SUMMARY:Reflections on the River
DESCRIPTION:You are invited to our annual luminaria event to honor loved ones who have died. A short\, bilingual program will be held in the amphitheater at 7:30 pm\, featuring music\, words of comfort\, a memorial to veterans\, and other activities. Join us for a self-paced river walk and luminaria-lit labyrinth until 9:00 pm. Personalized luminarias can be purchased at wvh.org/Reflections.
X-ALT-DESC;FMTTYPE=text/html:You are invited to our annual luminaria event to honor loved ones who have died. A short\, bilingual program will be held in the amphitheater at 7:30 pm\, featuring music\, words of comfort\, a memorial to veterans\, and other activities. Join us for a self-paced river walk and luminaria-lit labyrinth until 9:00 pm. Personalized luminarias can be purchased at wvh.org/Reflections.
LOCATION:Salem Riverfront Park Amphitheater
UID:e.63.28355
SEQUENCE:3
DTSTAMP:20260424T030838Z
URL:https://cm.keizerchamber.com/events/details/reflections-on-the-river-09-07-2023-28355
END:VEVENT

END:VCALENDAR
