BEGIN:VCALENDAR
VERSION:2.0
PRODID:-//ChamberMaster//Event Calendar 2.0//EN
METHOD:PUBLISH
X-PUBLISHED-TTL:P3D
REFRESH-INTERVAL:P3D
CALSCALE:GREGORIAN
BEGIN:VEVENT
DTSTART:20070327T203000Z
DTEND:20070328T013000Z
X-MICROSOFT-CDO-ALLDAYEVENT:FALSE
SUMMARY:Red Cross Blood Drive
DESCRIPTION:Keizer Clear Lake United Methodist Church is sponsoring a Blood Drive to be held at the church.\n\nPlease call by 3/23 to reserve your time.\n503-393-2402 \n\nIdentification is required.
X-ALT-DESC;FMTTYPE=text/html:<h3>Keizer Clear Lake United Methodist Church is sponsoring a Blood Drive to be held at the church.<br /><br />Please call by 3/23 to reserve your time.<br />503-393-2402&nbsp\;<br /><br />Identification is required. </h3>
LOCATION:Keizer Clear Lake United Methodist Church 7920 Wheatland Rd NE Keizer\, OR 97303
UID:e.63.17
SEQUENCE:3
DTSTAMP:20260423T234617Z
URL:https://cm.keizerchamber.com/events/details/red-cross-blood-drive-03-27-2007-17
END:VEVENT

END:VCALENDAR
