BEGIN:VCALENDAR
VERSION:2.0
PRODID:-//ChamberMaster//Event Calendar 2.0//EN
METHOD:PUBLISH
X-PUBLISHED-TTL:P3D
REFRESH-INTERVAL:P3D
CALSCALE:GREGORIAN
BEGIN:VEVENT
DTSTART:20231126T160000Z
DTEND:20231126T180000Z
X-MICROSOFT-CDO-ALLDAYEVENT:FALSE
SUMMARY:Pancake Breakfast
DESCRIPTION:Pancake Breakfast. Scrambled eggs\, ham or sausage links\, orange juice\, and all you can eat pancakes.
X-ALT-DESC;FMTTYPE=text/html:Pancake Breakfast. Scrambled eggs\, ham or sausage links\, orange juice\, and all you can eat pancakes.
LOCATION:Keizer Salem Senior Center. 930 Plymouth DR NE Keizer\, OR 97303
UID:e.63.28474
SEQUENCE:3
DTSTAMP:20260423T225150Z
URL:https://cm.keizerchamber.com/events/details/pancake-breakfast-11-26-2023-28474
END:VEVENT

END:VCALENDAR
