BEGIN:VCALENDAR
VERSION:2.0
PRODID:-//ChamberMaster//Event Calendar 2.0//EN
METHOD:PUBLISH
X-PUBLISHED-TTL:P3D
REFRESH-INTERVAL:P3D
CALSCALE:GREGORIAN
BEGIN:VEVENT
DTSTART:20231104T150000Z
DTEND:20231104T170000Z
X-MICROSOFT-CDO-ALLDAYEVENT:FALSE
SUMMARY:Pancake Breakfast
DESCRIPTION:Scrambled Eggs\, Sausage or Ham\, OJ\, and all you can eat pancakes.
X-ALT-DESC;FMTTYPE=text/html:Scrambled Eggs\, Sausage or Ham\, OJ\, and all you can eat pancakes.
LOCATION:Keizer/Salem Area Senior Center 930 Plymouth DR NE Keizer\, OR 9\\303
UID:e.63.28459
SEQUENCE:3
DTSTAMP:20260423T225726Z
URL:https://cm.keizerchamber.com/events/details/pancake-breakfast-11-04-2023-28459
END:VEVENT

END:VCALENDAR
