BEGIN:VCALENDAR
VERSION:2.0
PRODID:-//ChamberMaster//Event Calendar 2.0//EN
METHOD:PUBLISH
X-PUBLISHED-TTL:P3D
REFRESH-INTERVAL:P3D
CALSCALE:GREGORIAN
BEGIN:VEVENT
DTSTART;VALUE=DATE:20230916
DTEND;VALUE=DATE:20230917
TRANSP:TRANSPARENT
X-MICROSOFT-CDO-ALLDAYEVENT:TRUE
SUMMARY:Oregon State Credit Union Shred Day
DESCRIPTION:Oregon State Credit Union Shred Day!\n\n\n\nShred day is a free event open to everyone.  Gather your documents you want to shred\, you don't need to removed staples\, paperclips or bindings\, drive up and we'll take care of the rest.  You documents will be shredded onsite. Limit of three boxes per vehicle.  \n\n\n\nWe can shred old CD's or diskettes as well!!
X-ALT-DESC;FMTTYPE=text/html:<span style="color: rgb(51\, 51\, 51)\; font-family: sans-serif\, Arial\, Verdana\, &quot\;Trebuchet MS&quot\;\; font-size: 13px\; background-color: rgb(255\, 255\, 255)\;">Oregon State Credit Union Shred Day!</span><br style="color: rgb(51\, 51\, 51)\; font-family: sans-serif\, Arial\, Verdana\, &quot\;Trebuchet MS&quot\;\; font-size: 13px\;" />\n<br style="color: rgb(51\, 51\, 51)\; font-family: sans-serif\, Arial\, Verdana\, &quot\;Trebuchet MS&quot\;\; font-size: 13px\;" />\n<span style="color: rgb(51\, 51\, 51)\; font-family: sans-serif\, Arial\, Verdana\, &quot\;Trebuchet MS&quot\;\; font-size: 13px\; background-color: rgb(255\, 255\, 255)\;">Shred day is a free event open to everyone.&nbsp\; Gather your documents you want to shred\, you don&#39\;t need to removed staples\, paperclips or bindings\, drive up and we&#39\;ll take care of the rest.&nbsp\; You documents will be shredded onsite. Limit of three boxes per vehicle.&nbsp\;&nbsp\;</span><br style="color: rgb(51\, 51\, 51)\; font-family: sans-serif\, Arial\, Verdana\, &quot\;Trebuchet MS&quot\;\; font-size: 13px\;" />\n<br style="color: rgb(51\, 51\, 51)\; font-family: sans-serif\, Arial\, Verdana\, &quot\;Trebuchet MS&quot\;\; font-size: 13px\;" />\n<span style="color: rgb(51\, 51\, 51)\; font-family: sans-serif\, Arial\, Verdana\, &quot\;Trebuchet MS&quot\;\; font-size: 13px\; background-color: rgb(255\, 255\, 255)\;">We can shred old CD&#39\;s or diskettes as well!!</span>
LOCATION:Volcanoes Stadium 6700 Field of Dreams Way NE Suite 101 Keizer\, OR 97303
UID:e.63.28066
SEQUENCE:3
DTSTAMP:20260424T030945Z
URL:https://cm.keizerchamber.com/events/details/oregon-state-credit-union-shred-day-28066
END:VEVENT

END:VCALENDAR
