BEGIN:VCALENDAR
VERSION:2.0
PRODID:-//ChamberMaster//Event Calendar 2.0//EN
METHOD:PUBLISH
X-PUBLISHED-TTL:P3D
REFRESH-INTERVAL:P3D
CALSCALE:GREGORIAN
BEGIN:VEVENT
DTSTART:20240504T170000Z
DTEND:20240504T220000Z
X-MICROSOFT-CDO-ALLDAYEVENT:FALSE
SUMMARY:Oregon State Button Society Annual Show & Sale
DESCRIPTION:Oregon State Button Society is have their annual show and sale. \n\n\n\n"The Beauty of Art Nouveau"\n\n\n\nButton Collectors\, artists and crafters\, those with interests in fashion design\, history\, quilting\, and sewing are invited to view thousands of buttons from the eighteenth\, nineteenth\, twentieth centuries\, and beyond! Appreciate the workmanship and creativity\, the social history and trends of the times\, and their influence on the design of the delightful button.
X-ALT-DESC;FMTTYPE=text/html:Oregon State Button Society is have their annual show and sale.&nbsp\;<br />\n<br />\n&quot\;The Beauty of Art Nouveau&quot\;<br />\n<br />\n<span style="color: rgb(51\, 51\, 51)\; font-family: Roboto\, sans-serif\; font-size: 13px\; background-color: rgb(255\, 255\, 255)\;">Button Collectors\, artists and crafters\, those with interests in fashion design\, history\, quilting\, and sewing are invited to view thousands of buttons from the eighteenth\, nineteenth\, twentieth centuries\, and beyond! Appreciate the workmanship and creativity\, the social history and trends of the times\, and their influence on the design of the delightful button.</span>
LOCATION:Best Western Premiere Hotel 5188 Wittenberg Lane NE Keizer\, OR 97303
UID:e.63.28601
SEQUENCE:3
DTSTAMP:20260424T091435Z
URL:https://cm.keizerchamber.com/events/details/oregon-state-button-society-annual-show-sale-28601
END:VEVENT

END:VCALENDAR
