BEGIN:VCALENDAR
VERSION:2.0
PRODID:-//ChamberMaster//Event Calendar 2.0//EN
METHOD:PUBLISH
X-PUBLISHED-TTL:P3D
REFRESH-INTERVAL:P3D
CALSCALE:GREGORIAN
BEGIN:VEVENT
DTSTART:20240119T000000Z
DTEND:20240119T020000Z
X-MICROSOFT-CDO-ALLDAYEVENT:FALSE
SUMMARY:Open House
DESCRIPTION:Avamere Court at Keizer is excited to open its doors to the community for an Open House event. Join us for an afternoon filled with music\, delectable food\, engaging games\, and the chance to win exciting prizes in our raffle. We would love to see everyone there\, so mark your calendars and come experience the warmth and hospitality of Avamere Court at Keizer.
X-ALT-DESC;FMTTYPE=text/html:Avamere Court at Keizer is excited to open its doors to the community for an Open House event. Join us for an afternoon filled with music\, delectable food\, engaging games\, and the chance to win exciting prizes in our raffle. We would love to see everyone there\, so mark your calendars and come experience the warmth and hospitality of Avamere Court at Keizer.
LOCATION:5210 River Rd N.\, Building 3 Keizer\, OR 97303
UID:e.63.28547
SEQUENCE:3
DTSTAMP:20260424T013851Z
URL:https://cm.keizerchamber.com/events/details/open-house-28547
END:VEVENT

END:VCALENDAR
