BEGIN:VCALENDAR
VERSION:2.0
PRODID:-//ChamberMaster//Event Calendar 2.0//EN
METHOD:PUBLISH
X-PUBLISHED-TTL:P3D
REFRESH-INTERVAL:P3D
CALSCALE:GREGORIAN
BEGIN:VEVENT
DTSTART:20090830T020000Z
DTEND:20090830T090000Z
X-MICROSOFT-CDO-ALLDAYEVENT:FALSE
SUMMARY:Now showing UFC 102 at On the Rocs
DESCRIPTION:Big Screens featuring UFC 102 *Couture vs. Nogueira & Jardine vs. Silva* After Party with DJ Navigator.  Come in for great food\, ice cold drinks\, play some pool & to catch your favorite game on any one of our many big screen HD TVs. Open daily serving lunch and dinner.
X-ALT-DESC;FMTTYPE=text/html:Big Screens featuring UFC 102 *Couture vs. Nogueira & Jardine vs. Silva* After Party with DJ Navigator.  Come in for great food\, ice cold drinks\, play some pool & to catch your favorite game on any one of our many big screen HD TVs. Open daily serving lunch and dinner.
LOCATION:3838 River Rd. N. Keizer\, OR 97303
UID:e.63.2258
SEQUENCE:3
DTSTAMP:20260422T060558Z
URL:https://cm.keizerchamber.com/events/details/now-showing-ufc-102-at-on-the-rocs-08-29-2009-2258
END:VEVENT

END:VCALENDAR
