BEGIN:VCALENDAR
VERSION:2.0
PRODID:-//ChamberMaster//Event Calendar 2.0//EN
METHOD:PUBLISH
X-PUBLISHED-TTL:P3D
REFRESH-INTERVAL:P3D
CALSCALE:GREGORIAN
BEGIN:VEVENT
DTSTART:20100727T163000Z
DTEND:20100727T173000Z
X-MICROSOFT-CDO-ALLDAYEVENT:FALSE
SUMMARY:New Member & Get Acquainted Coffee
DESCRIPTION:New members and "old" members desiring to get acquainted with Chamber activities and benefits are welcome to attend.
X-ALT-DESC;FMTTYPE=text/html:<div>New members and &quot\;old&quot\; members desiring to get acquainted with Chamber activities and benefits are welcome to attend.</div>
LOCATION:KeyBank Keizer Station2680 Jorie Lane NEKeizer\, Oregon
UID:e.63.2353
SEQUENCE:3
DTSTAMP:20260421T190445Z
URL:https://cm.keizerchamber.com/events/details/new-member-get-acquainted-coffee-07-27-2010-2353
END:VEVENT

END:VCALENDAR
