BEGIN:VCALENDAR
VERSION:2.0
PRODID:-//ChamberMaster//Event Calendar 2.0//EN
METHOD:PUBLISH
X-PUBLISHED-TTL:P3D
REFRESH-INTERVAL:P3D
CALSCALE:GREGORIAN
BEGIN:VEVENT
DTSTART;VALUE=DATE:20230925
DTEND;VALUE=DATE:20231002
TRANSP:TRANSPARENT
X-MICROSOFT-CDO-ALLDAYEVENT:TRUE
SUMMARY:Navy Week
DESCRIPTION:Willamette Valley Navy Week \n\n \n\nKEIZER\, Oregon   The City of Keizer will participate in Willamette Valley Navy Week during the week of September 25th\, 2023 through October 1st\, 2023\, joining one of 15 Navy Weeks nationwide taking place this year.  The U.S. Navy will bring a variety of assets\, equipment and personnel to Keizer.  Navy Week is an outreach event designed to provide an opportunity to learn about the Navy\, its people\, and its importance.\n\n \n\nNavy parachute jumpers\, including a Navy Seal\, will land on the McNary High School football field between 12:00 and 12:40 pm on Tuesday September 26th. Sailors will be in Keizer on September 27th visiting McNary High School Students\, performing community service\, and engaging with Civic Leaders and the community.  \n\n \n\nRear Admiral Charles "Mike" Brown\, Reserve Deputy Chief of Naval Operations for Information Warfare\, will accept a proclamation from Mayor Cathy Clark on September 27th at 8 am at the Keizer Community Center at 930 Chemawa Road. Community members can enjoy free live music by a Navy Chamber Quartet at the proclamation ceremony. \n\n \n\nLater that evening McNary High School baseball and softball players will join navy sailors for a friendly game of softball for 1 hour at the Volcanoes Stadium beginning at 6 pm. The friendly game will be followed by a Navy pop performance group at 7 pm. All events are free and open to the public.    \n\n \n\nMayor Cathy Clark said\, "We are honored and excited that the United States Navy has chosen Salem and Keizer to host one of their Navy Week Programs. Everyone is invited to join us at these public venues to celebrate our United States Navy." \n\n \n\nFor more information\, visit: https://outreach.navy.mil/Navy-Weeks/Willamette-Valley-2023/
X-ALT-DESC;FMTTYPE=text/html:<p id="isPasted" style="box-sizing: border-box\; margin: 0px 0px 10px\; color: rgb(51\, 51\, 51)\; font-family: Roboto\, sans-serif\; font-size: 16px\; background-color: rgba(255\, 255\, 255\, 0.95)\; text-align: center\;"><span style="font-size:20px\;"><strong><span style="box-sizing: border-box\; font-weight: 700\;">Willamette Valley Navy Week&nbsp\;</span></strong></span></p>\n\n<p style="box-sizing: border-box\; margin: 0px 0px 10px\; color: rgb(51\, 51\, 51)\; font-family: Roboto\, sans-serif\; font-size: 16px\; background-color: rgba(255\, 255\, 255\, 0.95)\;">&nbsp\;</p>\n\n<p style="box-sizing: border-box\; margin: 0px 0px 10px\; color: rgb(51\, 51\, 51)\; font-family: Roboto\, sans-serif\; font-size: 16px\; background-color: rgba(255\, 255\, 255\, 0.95)\;">KEIZER\, Oregon &ndash\; The City of Keizer will participate in Willamette Valley Navy Week during the week of September 25<span style="box-sizing: border-box\; position: relative\; font-size: 12px\; line-height: 0\; vertical-align: baseline\; top: -0.5em\;">th</span>\, 2023 through October 1<span style="box-sizing: border-box\; position: relative\; font-size: 12px\; line-height: 0\; vertical-align: baseline\; top: -0.5em\;">st</span>\, 2023\, joining one of 15 Navy Weeks nationwide taking place this year. &nbsp\;The U.S. Navy will bring a variety of assets\, equipment and personnel to Keizer. &nbsp\;Navy Week is an outreach event designed to provide an opportunity to learn about the Navy\, its people\, and its importance.</p>\n\n<p style="box-sizing: border-box\; margin: 0px 0px 10px\; color: rgb(51\, 51\, 51)\; font-family: Roboto\, sans-serif\; font-size: 16px\; background-color: rgba(255\, 255\, 255\, 0.95)\;">&nbsp\;</p>\n\n<p style="box-sizing: border-box\; margin: 0px 0px 10px\; color: rgb(51\, 51\, 51)\; font-family: Roboto\, sans-serif\; font-size: 16px\; background-color: rgba(255\, 255\, 255\, 0.95)\;">Navy parachute jumpers\, including a Navy Seal\, will land on the McNary High School football field between 12:00 and 12:40 pm on Tuesday September 26<span style="box-sizing: border-box\; position: relative\; font-size: 12px\; line-height: 0\; vertical-align: baseline\; top: -0.5em\;">th</span>. Sailors will be in Keizer on September 27<span style="box-sizing: border-box\; position: relative\; font-size: 12px\; line-height: 0\; vertical-align: baseline\; top: -0.5em\;">th</span>&nbsp\;visiting McNary High School Students\, performing community service\, and engaging with Civic Leaders and the community. &nbsp\;</p>\n\n<p style="box-sizing: border-box\; margin: 0px 0px 10px\; color: rgb(51\, 51\, 51)\; font-family: Roboto\, sans-serif\; font-size: 16px\; background-color: rgba(255\, 255\, 255\, 0.95)\;">&nbsp\;</p>\n\n<p style="box-sizing: border-box\; margin: 0px 0px 10px\; color: rgb(51\, 51\, 51)\; font-family: Roboto\, sans-serif\; font-size: 16px\; background-color: rgba(255\, 255\, 255\, 0.95)\;">Rear Admiral Charles &ldquo\;Mike&rdquo\; Brown\, Reserve Deputy Chief of Naval Operations for Information Warfare\, will accept a proclamation from Mayor Cathy Clark on September 27<span style="box-sizing: border-box\; position: relative\; font-size: 12px\; line-height: 0\; vertical-align: baseline\; top: -0.5em\;">th</span>&nbsp\;at 8 am at the Keizer Community Center at 930 Chemawa Road. Community members can enjoy free live music by a Navy Chamber Quartet at the proclamation ceremony.&nbsp\;</p>\n\n<p style="box-sizing: border-box\; margin: 0px 0px 10px\; color: rgb(51\, 51\, 51)\; font-family: Roboto\, sans-serif\; font-size: 16px\; background-color: rgba(255\, 255\, 255\, 0.95)\;">&nbsp\;</p>\n\n<p style="box-sizing: border-box\; margin: 0px 0px 10px\; color: rgb(51\, 51\, 51)\; font-family: Roboto\, sans-serif\; font-size: 16px\; background-color: rgba(255\, 255\, 255\, 0.95)\;">Later that evening McNary High School baseball and softball players will join navy sailors for a friendly game of softball for 1 hour at the Volcanoes Stadium beginning at 6 pm. The friendly game will be followed by a Navy pop performance group at 7 pm. All events are free and open to the public. &nbsp\; &nbsp\;</p>\n\n<p style="box-sizing: border-box\; margin: 0px 0px 10px\; color: rgb(51\, 51\, 51)\; font-family: Roboto\, sans-serif\; font-size: 16px\; background-color: rgba(255\, 255\, 255\, 0.95)\;">&nbsp\;</p>\n\n<p style="box-sizing: border-box\; margin: 0px 0px 10px\; color: rgb(51\, 51\, 51)\; font-family: Roboto\, sans-serif\; font-size: 16px\; background-color: rgba(255\, 255\, 255\, 0.95)\;">Mayor Cathy Clark said\, &ldquo\;We are honored and excited that the United States Navy has chosen Salem and Keizer to host one of their Navy Week Programs. Everyone is invited to join us at these public venues to celebrate our United States Navy.&rdquo\;&nbsp\;</p>\n\n<p style="box-sizing: border-box\; margin: 0px 0px 10px\; color: rgb(51\, 51\, 51)\; font-family: Roboto\, sans-serif\; font-size: 16px\; background-color: rgba(255\, 255\, 255\, 0.95)\;">&nbsp\;</p>\n\n<p style="box-sizing: border-box\; margin: 0px 0px 10px\; color: rgb(51\, 51\, 51)\; font-family: Roboto\, sans-serif\; font-size: 16px\; background-color: rgba(255\, 255\, 255\, 0.95)\;">For more information\, visit:&nbsp\;<a href="https://outreach.navy.mil/Navy-Weeks/Willamette-Valley-2023/" id="isPasted" style="box-sizing: border-box\; background-color: transparent\; color: rgb(51\, 122\, 183)\; text-decoration-line: none\;" target="_blank">https://outreach.navy.mil/Navy-Weeks/Willamette-Valley-2023/</a></p>\n
LOCATION:Various locations in the Keizer and Salem area
UID:e.63.28418
SEQUENCE:3
DTSTAMP:20260424T001208Z
URL:https://cm.keizerchamber.com/events/details/navy-week-28418
END:VEVENT

END:VCALENDAR
