BEGIN:VCALENDAR
VERSION:2.0
PRODID:-//ChamberMaster//Event Calendar 2.0//EN
METHOD:PUBLISH
X-PUBLISHED-TTL:P3D
REFRESH-INTERVAL:P3D
CALSCALE:GREGORIAN
BEGIN:VEVENT
DTSTART:20090507T143000Z
DTEND:20090507T160000Z
X-MICROSOFT-CDO-ALLDAYEVENT:FALSE
SUMMARY:Mayor's Prayer Breakfast
DESCRIPTION:Mayor's Prayer Breakfast. Please join us on May 7th from 7:30 am - 9:00 am for breakfast in celebration of the 11th annual National Day of Prayer. This event is non-denominational\, all are welcome to participate. Our speaker is Chief Jeff Cowan from Keizer Fire District. Breakfast cost is $15 and is required prior to the function. You may register through this invitation and pay online or send your check or credit card information to JoAnne Beilke at the Keizer Chamber of Commerce. For more information call 503-393-9111.
X-ALT-DESC;FMTTYPE=text/html:<div>Mayor's Prayer Breakfast.</div><div>&nbsp\;</div><div>Please join us on May 7th from 7:30 am - 9:00 am for breakfast in&nbsp\;celebration of the 11th annual National Day of Prayer. This event is non-denominational\, all are welcome to participate. Our speaker is Chief Jeff Cowan from Keizer Fire District.</div><div>&nbsp\;</div><div>Breakfast cost is $15 and is required prior to the function. You may register through this invitation and pay online or send your check or credit card information to JoAnne Beilke at the Keizer Chamber of Commerce.</div><div>&nbsp\;</div><div>For more information call 503-393-9111.</div>
LOCATION:City of Keizer\, City Hall930 Chemawa Rd NEKeizer\, Oregon
UID:e.63.1950
SEQUENCE:3
DTSTAMP:20260422T151923Z
URL:https://cm.keizerchamber.com/events/details/mayor-s-prayer-breakfast-05-07-2009-1950
END:VEVENT

END:VCALENDAR
