BEGIN:VCALENDAR
VERSION:2.0
PRODID:-//ChamberMaster//Event Calendar 2.0//EN
METHOD:PUBLISH
X-PUBLISHED-TTL:P3D
REFRESH-INTERVAL:P3D
CALSCALE:GREGORIAN
BEGIN:VEVENT
DTSTART:20240504T013000Z
DTEND:20240504T033000Z
X-MICROSOFT-CDO-ALLDAYEVENT:FALSE
SUMMARY:May Day Dance
DESCRIPTION:Social Ballroom Dance Keizer Big Band
X-ALT-DESC;FMTTYPE=text/html:Social Ballroom Dance Keizer Big Band
LOCATION:Center 50+ 2615 Portland Rd NE Salem\, Oregon
UID:e.63.28625
SEQUENCE:3
DTSTAMP:20260424T090943Z
URL:https://cm.keizerchamber.com/events/details/may-day-dance-28625
END:VEVENT

END:VCALENDAR
