BEGIN:VCALENDAR
VERSION:2.0
PRODID:-//ChamberMaster//Event Calendar 2.0//EN
METHOD:PUBLISH
X-PUBLISHED-TTL:P3D
REFRESH-INTERVAL:P3D
CALSCALE:GREGORIAN
BEGIN:VEVENT
DTSTART:20240523T010000Z
DTEND:20240523T050000Z
X-MICROSOFT-CDO-ALLDAYEVENT:FALSE
SUMMARY:Mavericks Game - City of Keizer Night
DESCRIPTION:It's City of Keizer Night at the Maverick's Game.\n\nALL employees of Keizer and Business owners from Keizer can get into the game for $5.\n\n\n\nThe first pitch will be thrown out by Celeste Guptill\, a 5 year cancer survivor and Keizer resident. Celeste and her family will be there to represent Keizer.  \n\n6 year old Bradley Guptill will be playing the National Anthem on his fiddle.
X-ALT-DESC;FMTTYPE=text/html:It&#39\;s City of Keizer Night at the Maverick&#39\;s Game.<br />\nALL employees of Keizer and Business owners from Keizer can get into the game for $5.<br />\n<br />\nThe first pitch will be thrown out by Celeste Guptill\, a 5 year cancer survivor and Keizer resident. Celeste and her family will be there to represent Keizer.&nbsp\;&nbsp\;<br />\n6 year old Bradley Guptill will be playing the National Anthem on his fiddle.
LOCATION:Volcanoes Stadium 6700 Field of Dreams Way
UID:e.63.28835
SEQUENCE:3
DTSTAMP:20260424T090429Z
URL:https://cm.keizerchamber.com/events/details/mavericks-game-city-of-keizer-night-28835
END:VEVENT

END:VCALENDAR
