BEGIN:VCALENDAR
VERSION:2.0
PRODID:-//ChamberMaster//Event Calendar 2.0//EN
METHOD:PUBLISH
X-PUBLISHED-TTL:P3D
REFRESH-INTERVAL:P3D
CALSCALE:GREGORIAN
BEGIN:VEVENT
DTSTART:20231002T000000Z
DTEND:20231002T030000Z
X-MICROSOFT-CDO-ALLDAYEVENT:FALSE
SUMMARY:Long Time Gone at Willamette Eagles
DESCRIPTION:Willamette Eagles Present Long Time Gone\n\n\n\nJoin us and enjoy a night of music with this our fundraising event for Family Building Blocks.\n\n\n\nPotluck & N. Lincoln Eagles will be providing Oysters.
X-ALT-DESC;FMTTYPE=text/html:Willamette Eagles Present Long Time Gone<br />\n<br />\nJoin us and enjoy a night of music with this our fundraising event for Family Building Blocks.<br />\n<br />\nPotluck &amp\; N. Lincoln Eagles will be providing Oysters.<br />\n&nbsp\;
LOCATION:Willamette Aerie 2081 4090 Cherry Ave Keizer\, Or 97303
UID:e.63.28394
SEQUENCE:3
DTSTAMP:20260424T001240Z
URL:https://cm.keizerchamber.com/events/details/long-time-gone-at-willamette-eagles-28394
END:VEVENT

END:VCALENDAR
