BEGIN:VCALENDAR
VERSION:2.0
PRODID:-//ChamberMaster//Event Calendar 2.0//EN
METHOD:PUBLISH
X-PUBLISHED-TTL:P3D
REFRESH-INTERVAL:P3D
CALSCALE:GREGORIAN
BEGIN:VEVENT
DTSTART:20070829T190000Z
DTEND:20070829T190000Z
X-MICROSOFT-CDO-ALLDAYEVENT:FALSE
SUMMARY:Kroc Center Ground Breaking
DESCRIPTION:There is a ground breaking ceremony for the Kroc Center\, a multi-million dollar recreation facility.  The center is the culmination of a huge fund-raising effort to show a vested interest in a large donation from Joan Kroc.Live music begins at 10:30am\, followed by the ceremony and a BBQ lunch at noon.
X-ALT-DESC;FMTTYPE=text/html:<p>There is a ground breaking ceremony for the Kroc Center\, a multi-million dollar recreation facility.&nbsp\; The center is the culmination of a huge fund-raising effort to show a vested interest in a large donation from Joan Kroc.</p><p>Live music begins at 10:30am\, followed by the ceremony and a BBQ lunch at noon.</p>
LOCATION:1865 Bill Frey Dr. NEoff of Portland Road in North Salem
UID:e.63.1425
SEQUENCE:3
DTSTAMP:20260423T172904Z
URL:https://cm.keizerchamber.com/events/details/kroc-center-ground-breaking-08-29-2007-1425
END:VEVENT

END:VCALENDAR
