BEGIN:VCALENDAR
VERSION:2.0
PRODID:-//ChamberMaster//Event Calendar 2.0//EN
METHOD:PUBLISH
X-PUBLISHED-TTL:P3D
REFRESH-INTERVAL:P3D
CALSCALE:GREGORIAN
BEGIN:VEVENT
DTSTART:20230906T184500Z
DTEND:20230906T200000Z
X-MICROSOFT-CDO-ALLDAYEVENT:FALSE
SUMMARY:KNOW September Luncheon
DESCRIPTION:Please join us for the September KNOW Luncheon.\n\n\n\nOur host this month is Carmelle Bielenberg from the Stayton Sublimity Chamber of Commerce.\n\n\n\nCome network and enjoy a delicious lunch with the wonderful women from our community!
X-ALT-DESC;FMTTYPE=text/html:<span style="font-size:16px\;">Please join us for the September KNOW Luncheon.<br />\n<br />\nOur host this month is Carmelle Bielenberg from the Stayton Sublimity Chamber of Commerce.<br />\n<br />\nCome network and enjoy a delicious lunch with the wonderful women from our community!</span>
LOCATION:McNary Golf Course The View Restaurant 165 McNary Estates Dr NE Keizer\, OR 97303
UID:e.63.27911
SEQUENCE:3
DTSTAMP:20260424T014340Z
URL:https://cm.keizerchamber.com/events/details/know-september-luncheon-27911
END:VEVENT

END:VCALENDAR
