BEGIN:VCALENDAR
VERSION:2.0
PRODID:-//ChamberMaster//Event Calendar 2.0//EN
METHOD:PUBLISH
X-PUBLISHED-TTL:P3D
REFRESH-INTERVAL:P3D
CALSCALE:GREGORIAN
BEGIN:VEVENT
DTSTART:20240501T184500Z
DTEND:20240501T200000Z
X-MICROSOFT-CDO-ALLDAYEVENT:FALSE
SUMMARY:KNOW May Luncheon
DESCRIPTION:Please join us for the KNOW May Luncheon.\n\n\n\n Our speaker will be Nancy Yankovic from Saltwater Wellness.\n\n\n\nNancy will be talking about hormones. This is going to be a high level presentation about hormones\; what they are\, why we have them\, them in our reproductive years and the how they decline as we age. She will also go into common symptoms\, symptom management and empowerment for women to seek help with hormone optimization from their GYN.\n\n\n\nCome network and enjoy a delicious lunch with the wonderful women from our community!
X-ALT-DESC;FMTTYPE=text/html:<span style="font-size:24px\;"><strong>Please join us for the KNOW May Luncheon.</strong></span><br />\n<br />\n<span style="font-size:20px\;">&nbsp\;Our speaker will be Nancy Yankovic from Saltwater Wellness.<br />\n<br />\nNancy will be talking about hormones. This is going to be a high level presentation about hormones\; what they are\, why we have them\, them in our reproductive years and the how they decline as we age. She will also go into common symptoms\, symptom management and empowerment for women to seek help with hormone optimization from their GYN.<br />\n<br />\nCome network and enjoy a delicious lunch with the wonderful women from our community!</span>
LOCATION:The View at McNary Golf Course 165 McNary Estates Dr NE Keizer\, OR 97303
UID:e.63.28619
SEQUENCE:3
DTSTAMP:20260424T090944Z
URL:https://cm.keizerchamber.com/events/details/know-may-luncheon-28619
END:VEVENT

END:VCALENDAR
