BEGIN:VCALENDAR
VERSION:2.0
PRODID:-//ChamberMaster//Event Calendar 2.0//EN
METHOD:PUBLISH
X-PUBLISHED-TTL:P3D
REFRESH-INTERVAL:P3D
CALSCALE:GREGORIAN
BEGIN:VEVENT
DTSTART:20080923T190000Z
DTEND:20080923T200000Z
X-MICROSOFT-CDO-ALLDAYEVENT:FALSE
SUMMARY:KNOW Keizer's Network of Women
DESCRIPTION:KNOW Keizer's Network of Women Join us on Tuesday the 26th at Keizer Renaissance Inn for lunch. Our speaker is Debbi McCune from Prudential Real Estate.You will get to network and introduce yourself to a wonderful group of women. You will also have the opportunity to be chosen as a speaker at one of our meetings.  We hope to see you there\, & don't forget to bring plenty of business cards  & a door prize (its a great marketing tool). PAY ON LINE: Click on "register on line at the bottom of your email"\n\nKnow is a group of professional women who are Keizer Chamber Members and are committed to increasing their business & personal success by means of networking amongst each other & learning from others expertise. Please RSVP to paula@keizerchamber.com no later than Friday September 19th
X-ALT-DESC;FMTTYPE=text/html:<p align="left"><strong>KNOW </strong><em>Keizer&rsquo\;s Network of Women </em></p><p align="left">Join us on Tuesday the 26th at&nbsp\;<strong>Keizer Renaissance Inn</strong>&nbsp\;for lunch. Our speaker is Debbi McCune from Prudential Real Estate.</p><p align="left">You will get to network and introduce yourself to a wonderful group of women. You will also have the opportunity to be chosen as a speaker at one of our meetings.&nbsp\; We hope to see you there\, &amp\; don&rsquo\;t forget to bring plenty of business cards&nbsp\; &amp\; a door prize (its a great marketing tool). <strong>PAY ON LINE: Click on &quot\;register on line at the bottom of your email&quot\;</strong><br /><br />Know is a group of professional women who are Keizer Chamber Members and are committed to increasing their business &amp\; personal success by means of networking amongst each other &amp\; learning from others expertise.&nbsp\;</p><p align="left">Please RSVP to <a href="mailto:paula@keizerchamber.com">paula@keizerchamber.com</a> no later than Friday September 19th<br /><br /><font size="1"><br /></font></p>
LOCATION:Keizer Renaissance Inn5188 Wittenberg LaneKeizer
UID:e.63.1747
SEQUENCE:3
DTSTAMP:20260423T025936Z
URL:https://cm.keizerchamber.com/events/details/know-keizer-s-network-of-women-09-23-2008-1747
END:VEVENT

END:VCALENDAR
