BEGIN:VCALENDAR
VERSION:2.0
PRODID:-//ChamberMaster//Event Calendar 2.0//EN
METHOD:PUBLISH
X-PUBLISHED-TTL:P3D
REFRESH-INTERVAL:P3D
CALSCALE:GREGORIAN
BEGIN:VEVENT
DTSTART:20070424T190000Z
DTEND:20070424T200000Z
X-MICROSOFT-CDO-ALLDAYEVENT:FALSE
SUMMARY:KNOW Keizer's Network of Women
DESCRIPTION:KNOW Keizer's Network of Women\n\nKnow is a group of professional women who are Keizer Chamber Members and are committed to increasing their business & personal success by means of networking amongst each other & learning from others expertise. \n\nJoin us on Tuesday the 24th at miNa's at McNary for lunch. Our speaker will be Jan Cline from Discovery Toys\, Keizer Florist & Starlight Limousine. You will also have the opportunity to be chosen as a speaker at one of our meetings. Should you like to pre-order your lunch\, below is the menu. Please email paula@keizerchamber.com with your selection. We hope to see you there\, & don't forget to bring plenty of business cards. \n\nLunch Menu\nReuben $7.95: Thin slices of corned beef piled high on rye bread and topped with swiss cheese.\nClubhouse $8.95: Thin slices of deli turkey\, ham\, bacon\, lettuce\, tomatoe & mayo on your choice bread.\nBacon/Cheese Burger $7.95: Burger melted with american cheese\, bacon\, onion\, lettuce & tomatoe\nFrench Dip $8.95: Thin slices of roast beef served on a hoagie roll\, with au jus & horse radish sauce. W/ fries\, chips or coleslaw.\nHalibut Fish & Chips $10.95: Breaded halibut filtes\, deep fried to a golden brown served with coleslaw\, fries and tarter sauce on the side.\nCobb Salad $10.95: Deli turkey\, bacon bits\, gorgonzola\, diced tomatoes & hard boiled egg on a bed of lettuce\nAlmond Chicken Salad $8.95: Diced chicken breast\, green onions\, toasted almonds & celery mixed with light mayo dressing & surrounded by fresh fruit. \nFamous Pad Thai Noodle $8.95: Stir fried rice noodles with chicken\, egg\, bean sprouts\, green onions & ground peanut.\nDrunken Noodles $8.95: Stir fried wide rice noodles with chicken\, egg\, mushroom\, onions\, bean sprouts\, broccoli\, cabbage & bell peppers\nCashew Chicken $8.95: Stir fried chicken\, cashews\, carrots\, bell peppers\, onions in Thai sweet chili sause served with steam rice\nYellow Curry Chicken $8.95: Yellow curry paste with coconut milk\, chicken\, potatoes\, carrots\, broccoli. onion & bamboo shoots served with steam rice\nHawaii Chicken $8.95: Stir fried chicken\, pineapples\, carrots\, bell peppers\, onions in Thai sweet chili sauce served with steam rice
X-ALT-DESC;FMTTYPE=text/html:<p align="left"><strong>KNOW </strong><em>Keizer's Network of Women<br /><br /></em>Know is a group of professional women who are Keizer Chamber Members and are committed to increasing their business &amp\; personal success by means of networking amongst each other &amp\; learning from others expertise.&nbsp\;<br /><br />Join us on Tuesday the 24th at miNa's at McNary for lunch. Our speaker will be Jan Cline from Discovery Toys\, Keizer Florist &amp\; Starlight Limousine. You will also have the opportunity to be chosen as a speaker at one of our meetings.&nbsp\;Should you like to pre-order your lunch\, below is the menu. Please email&nbsp\;<a href="mailto:paula@keizerchamber.com">paula@keizerchamber.com</a> with your selection. We hope to see you there\, &amp\; don't forget to bring plenty of business cards. <br /><br /><strong><u>Lunch Menu<br /></u></strong><font size="1"><u><font size="2">Reuben </font></u>$7.95: Thin slices of corned beef piled high on rye bread and topped with swiss cheese.<br /><u><font size="2">Clubhouse</font></u> $8.95: Thin slices of deli turkey\, ham\, bacon\, lettuce\, tomatoe &amp\; mayo on your choice bread.<br /><u><font size="2">Bacon/Cheese Burger</font></u> $7.95: Burger melted with american cheese\, bacon\, onion\, lettuce &amp\; tomatoe<br /><u><font size="2">French Dip</font> </u>$8.95: Thin slices of roast beef served on a hoagie roll\, with au jus&nbsp\;&amp\; horse radish sauce. W/ fries\, chips or coleslaw.<br /><u><font size="2">Halibut Fish &amp\; Chips</font></u> $10.95: Breaded halibut filtes\, deep fried to a golden brown served with coleslaw\, fries and tarter sauce on the side.<br /><u><font size="2">Cobb Salad</font> </u>$10.95: Deli turkey\, bacon bits\, gorgonzola\, diced tomatoes &amp\; hard boiled egg on a bed of lettuce<br /><u><font size="2">Almond Chicken Salad</font></u> $8.95: Diced chicken breast\, green onions\, toasted almonds &amp\; celery mixed with light mayo dressing &amp\; surrounded by fresh fruit.&nbsp\;<br /><u><font size="2">Famous Pad Thai Noodle</font></u> $8.95: Stir fried rice noodles with chicken\, egg\, bean sprouts\, green onions &amp\; ground peanut.<br /><u><font size="2">Drunken Noodles</font></u> $8.95: Stir fried wide rice noodles with chicken\, egg\, mushroom\, onions\, bean sprouts\, broccoli\, cabbage &amp\; bell peppers<br /><u><font size="2">Cashew Chicken</font> </u>$8.95: Stir fried chicken\, cashews\, carrots\, bell peppers\, onions in Thai sweet chili sause served with steam rice<br /><u><font size="2">Yellow Curry Chicken</font></u> $8.95: Yellow curry paste with coconut milk\, chicken\, potatoes\, carrots\, broccoli. onion &amp\; bamboo shoots served with steam rice<br /><u><font size="2">Hawaii Chicken</font> </u>$8.95: Stir fried chicken\, pineapples\, carrots\, bell peppers\, onions in Thai sweet chili sauce served with steam rice<br /></font></p>
LOCATION:miNa's at McNary 165 McNary Estates Dr N Keizer\, Oregon.
UID:e.63.1271
SEQUENCE:3
DTSTAMP:20260421T143254Z
URL:https://cm.keizerchamber.com/events/details/know-keizer-s-network-of-women-04-24-2007-1271
END:VEVENT

END:VCALENDAR
